BEGIN:VCALENDAR
VERSION:2.0
PRODID:-//eventon.com NONSGML v1.0//EN
CALSCALE:GREGORIAN
METHOD:PUBLISH
BEGIN:VEVENT
UID:69e5e29e557ea
DTSTAMP:20260420T082358Z
DTSTART:20250930T070000Z
DTEND:20251002T150000Z
LOCATION:Köln\,  Premier Inn Hotel Köln City Mediapark
SUMMARY:KI Management
DESCRIPTION:\nhttps://www.tacticx.de/events/ki-management-3/
URL:https://www.tacticx.de/events/ki-management-3/
END:VEVENT
END:VCALENDAR